BEGIN:VCALENDAR
VERSION:2.0
PRODID:-//Intand Corporation//Tandem//EN
METHOD:PUBLISH
BEGIN:VEVENT
DTSTAMP:20260424T165855Z
DTSTART:20260429T113000Z
DTEND:20260429T181000Z
TRANSP:TRANSPARENT
PRIORITY:0
SUMMARY:Biology Class/Comp Ctr
LOCATION:Competition Center
DESCRIPTION:23 testing tables and chairs\, clear touch (portable smartboar
 ds) each day\n\n\nSchools:\nBlackstone Valley\n\nLocation:\nCompetition Ce
 nter\n\n
X-ALT-DESC;FMTTYPE=text/html:<!doctype html><html><body><span>23 testing t
 ables and chairs\, clear touch (portable smartboards) each day</span><br /
 ><br />Schools:<br />Blackstone Valley<br /><br />Location:<br />Competiti
 on Center<br /></body></html>
URL;VALUE=URI:https://blackstonevalleytechmaus.tandem.co/index.php?type=vi
 ew&action=event&id=6446510
CREATED:20260415T163229Z
LAST-MODIFIED:20260415T170258Z
UID:event-6446510-blackstonevalleytechmaus@intand.com
END:VEVENT
END:VCALENDAR
